Workbook
Name IB_Symbol_Column: Tmp!$C$2
Name IB_Quantity_Column: Tmp!$C$3
Name IB_Currency_Column: Tmp!$C$4
Name IB_TradeDate_Column: Tmp!$C$5
Name IB_TradePrice_Column: Tmp!$C$6
Name IB_Taxes_Column: Tmp!$C$7
Name IB_Commission_Column: Tmp!$C$8
Name UI: '[1]GBP Conversion'!$A$1:$G$54
Name IB_IB_Commission_Currency: Tmp!$C$9

Sheet IB (Input)
A1: CurrencyPrimary | B1: AssetClass | C1: Symbol | D1: TradeDate | E1: Quantity | F1: TradePrice | G1: Taxes | H1: IBCommission | I1: IBCommissionCurrency | J1: FXRateToBase
A2: GBP | B2: STK | C2: ERNS | D2: 20240207 | E2: 26 | F2: 101.42 | G2: 0 | H2: -3 | I2: GBP | J2: 1
A3: GBP | B3: STK | C3: ERNS | D3: 20240325 | E3: 14 | F3: 102.08 | G3: 0 | H3: -3 | I3: GBP | J3: 1
A4: GBP | B4: STK | C4: FUSI | D4: 20240207 | E4: 352 | F4: 7.5675 | G4: 0 | H4: -3 | I4: GBP | J4: 1
A5: GBP | B5: STK | C5: FUSI | D5: 20240325 | E5: 170 | F5: 7.905 | G5: 0 | H5: -3 | I5: GBP | J5: 1
A6: GBP | B6: STK | C6: QUID | D6: 20231010 | E6: 540 | F6: 101.95 | G6: 0 | H6: -27.5265 | I6: GBP | J6: 1
A7: GBP | B7: STK | C7: QUID | D7: 20231030 | E7: -328 | F7: 101.9 | G7: 0 | H7: -16.7116 | I7: GBP | J7: 1
A8: GBP | B8: STK | C8: QUID | D8: 20231031 | E8: -14 | F8: 101.9 | G8: 0 | H8: -3 | I8: GBP | J8: 1
A9: GBP | B9: STK | C9: QUID | D9: 20231031 | E9: -1 | F9: 101.9 | G9: 0 | H9: 0 | I9: GBP | J9: 1
A10: GBP | B10: STK | C10: QUID | D10: 20231031 | E10: -5 | F10: 101.9 | G10: 0 | H10: 0 | I10: GBP | J10: 1
A11: GBP | B11: STK | C11: QUID | D11: 20231031 | E11: -192 | F11: 101.9 | G11: 0 | H11: -7.8014 | I11: GBP | J11: 1
A12: GBP | B12: STK | C12: QUID | D12: 20240207 | E12: 26 | F12: 102.48 | G12: 0 | H12: -3 | I12: GBP | J12: 1
A13: GBP | B13: STK | C13: QUID | D13: 20240325 | E13: 4 | F13: 102.43 | G13: 0 | H13: -3 | I13: GBP | J13: 1
... A24: USD | B24: STK | C24: SDUS | D24: 20240328 | E24: -1058 | F24: 9.904 | G24: 0 | H24: -5.239216 | I24: USD | J24: 0.79215

Sheet CGT Calculator (Output)
A1: B/S | B1: Date | C1: Company | D1: Shares | E1: Price | F1: Charges | G1: Tax
A2: =IF('CGT Calculator'!A2="","",'CGT Calculator'!A2) -> B | B2: =IF('CGT Calculator'!B2="","",'CGT Calculator'!B2) -> 07/02/2024 | C2: =IF('CGT Calculator'!C2="","",'CGT Calculator'!C2) -> ERNS | D2: =IF('CGT Calculator'!D2="","",'CGT Calculator'!D2) -> 26 | E2: =IF('CGT Calculator'!E2="","",'CGT Calculator'!E2) -> 101.42 | F2: =IF('CGT Calculator'!F2="","",'CGT Calculator'!F2) -> 3 | G2: =IF('CGT Calculator'!G2="","",'CGT Calculator'!G2) -> 0
A3: =IF('CGT Calculator'!A3="","",'CGT Calculator'!A3) -> B | B3: =IF('CGT Calculator'!B3="","",'CGT Calculator'!B3) -> 25/03/2024 | C3: =IF('CGT Calculator'!C3="","",'CGT Calculator'!C3) -> ERNS | D3: =IF('CGT Calculator'!D3="","",'CGT Calculator'!D3) -> 14 | E3: =IF('CGT Calculator'!E3="","",'CGT Calculator'!E3) -> 102.08 | F3: =IF('CGT Calculator'!F3="","",'CGT Calculator'!F3) -> 3 | G3: =IF('CGT Calculator'!G3="","",'CGT Calculator'!G3) -> 0
A4: =IF('CGT Calculator'!A4="","",'CGT Calculator'!A4) -> B | B4: =IF('CGT Calculator'!B4="","",'CGT Calculator'!B4) -> 07/02/2024 | C4: =IF('CGT Calculator'!C4="","",'CGT Calculator'!C4) -> FUSI | D4: =IF('CGT Calculator'!D4="","",'CGT Calculator'!D4) -> 352 | E4: =IF('CGT Calculator'!E4="","",'CGT Calculator'!E4) -> 7.5675 | F4: =IF('CGT Calculator'!F4="","",'CGT Calculator'!F4) -> 3 | G4: =IF('CGT Calculator'!G4="","",'CGT Calculator'!G4) -> 0
A5: =IF('CGT Calculator'!A5="","",'CGT Calculator'!A5) -> B | B5: =IF('CGT Calculator'!B5="","",'CGT Calculator'!B5) -> 25/03/2024 | C5: =IF('CGT Calculator'!C5="","",'CGT Calculator'!C5) -> FUSI | D5: =IF('CGT Calculator'!D5="","",'CGT Calculator'!D5) -> 170 | E5: =IF('CGT Calculator'!E5="","",'CGT Calculator'!E5) -> 7.905 | F5: =IF('CGT Calculator'!F5="","",'CGT Calculator'!F5) -> 3 | G5: =IF('CGT Calculator'!G5="","",'CGT Calculator'!G5) -> 0
A6: =IF('CGT Calculator'!A6="","",'CGT Calculator'!A6) -> B | B6: =IF('CGT Calculator'!B6="","",'CGT Calculator'!B6) -> 10/10/2023 | C6: =IF('CGT Calculator'!C6="","",'CGT Calculator'!C6) -> QUID | D6: =IF('CGT Calculator'!D6="","",'CGT Calculator'!D6) -> 540 | E6: =IF('CGT Calculator'!E6="","",'CGT Calculator'!E6) -> 101.95 | F6: =IF('CGT Calculator'!F6="","",'CGT Calculator'!F6) -> 27.5265 | G6: =IF('CGT Calculator'!G6="","",'CGT Calculator'!G6) -> 0
A7: =IF('CGT Calculator'!A7="","",'CGT Calculator'!A7) -> S | B7: =IF('CGT Calculator'!B7="","",'CGT Calculator'!B7) -> 30/10/2023 | C7: =IF('CGT Calculator'!C7="","",'CGT Calculator'!C7) -> QUID | D7: =IF('CGT Calculator'!D7="","",'CGT Calculator'!D7) -> 328 | E7: =IF('CGT Calculator'!E7="","",'CGT Calculator'!E7) -> 101.9 | F7: =IF('CGT Calculator'!F7="","",'CGT Calculator'!F7) -> 16.7116 | G7: =IF('CGT Calculator'!G7="","",'CGT Calculator'!G7) -> 0
A8: =IF('CGT Calculator'!A8="","",'CGT Calculator'!A8) -> S | B8: =IF('CGT Calculator'!B8="","",'CGT Calculator'!B8) -> 31/10/2023 | C8: =IF('CGT Calculator'!C8="","",'CGT Calculator'!C8) -> QUID | D8: =IF('CGT Calculator'!D8="","",'CGT Calculator'!D8) -> 14 | E8: =IF('CGT Calculator'!E8="","",'CGT Calculator'!E8) -> 101.9 | F8: =IF('CGT Calculator'!F8="","",'CGT Calculator'!F8) -> 3 | G8: =IF('CGT Calculator'!G8="","",'CGT Calculator'!G8) -> 0
A9: =IF('CGT Calculator'!A9="","",'CGT Calculator'!A9) -> S | B9: =IF('CGT Calculator'!B9="","",'CGT Calculator'!B9) -> 31/10/2023 | C9: =IF('CGT Calculator'!C9="","",'CGT Calculator'!C9) -> QUID | D9: =IF('CGT Calculator'!D9="","",'CGT Calculator'!D9) -> 1 | E9: =IF('CGT Calculator'!E9="","",'CGT Calculator'!E9) -> 101.9 | F9: =IF('CGT Calculator'!F9="","",'CGT Calculator'!F9) -> 0 | G9: =IF('CGT Calculator'!G9="","",'CGT Calculator'!G9) -> 0
A10: =IF('CGT Calculator'!A10="","",'CGT Calculator'!A10) -> S | B10: =IF('CGT Calculator'!B10="","",'CGT Calculator'!B10) -> 31/10/2023 | C10: =IF('CGT Calculator'!C10="","",'CGT Calculator'!C10) -> QUID | D10: =IF('CGT Calculator'!D10="","",'CGT Calculator'!D10) -> 5 | E10: =IF('CGT Calculator'!E10="","",'CGT Calculator'!E10) -> 101.9 | F10: =IF('CGT Calculator'!F10="","",'CGT Calculator'!F10) -> 0 | G10: =IF('CGT Calculator'!G10="","",'CGT Calculator'!G10) -> 0
A11: =IF('CGT Calculator'!A11="","",'CGT Calculator'!A11) -> S | B11: =IF('CGT Calculator'!B11="","",'CGT Calculator'!B11) -> 31/10/2023 | C11: =IF('CGT Calculator'!C11="","",'CGT Calculator'!C11) -> QUID | D11: =IF('CGT Calculator'!D11="","",'CGT Calculator'!D11) -> 192 | E11: =IF('CGT Calculator'!E11="","",'CGT Calculator'!E11) -> 101.9 | F11: =IF('CGT Calculator'!F11="","",'CGT Calculator'!F11) -> 7.8014 | G11: =IF('CGT Calculator'!G11="","",'CGT Calculator'!G11) -> 0
A12: =IF('CGT Calculator'!A12="","",'CGT Calculator'!A12) -> B | B12: =IF('CGT Calculator'!B12="","",'CGT Calculator'!B12) -> 07/02/2024 | C12: =IF('CGT Calculator'!C12="","",'CGT Calculator'!C12) -> QUID | D12: =IF('CGT Calculator'!D12="","",'CGT Calculator'!D12) -> 26 | E12: =IF('CGT Calculator'!E12="","",'CGT Calculator'!E12) -> 102.48 | F12: =IF('CGT Calculator'!F12="","",'CGT Calculator'!F12) -> 3 | G12: =IF('CGT Calculator'!G12="","",'CGT Calculator'!G12) -> 0
A13: =IF('CGT Calculator'!A13="","",'CGT Calculator'!A13) -> B | B13: =IF('CGT Calculator'!B13="","",'CGT Calculator'!B13) -> 25/03/2024 | C13: =IF('CGT Calculator'!C13="","",'CGT Calculator'!C13) -> QUID | D13: =IF('CGT Calculator'!D13="","",'CGT Calculator'!D13) -> 4 | E13: =IF('CGT Calculator'!E13="","",'CGT Calculator'!E13) -> 102.43 | F13: =IF('CGT Calculator'!F13="","",'CGT Calculator'!F13) -> 3 | G13: =IF('CGT Calculator'!G13="","",'CGT Calculator'!G13) -> 0
... A1001: =IF('CGT Calculator'!A1001="","",'CGT Calculator'!A1001) | B1001: =IF('CGT Calculator'!B1001="","",'CGT Calculator'!B1001) | C1001: =IF('CGT Calculator'!C1001="","",'CGT Calculator'!C1001) | D1001: =IF('CGT Calculator'!D1001="","",'CGT Calculator'!D1001) | E1001: =IF('CGT Calculator'!E1001="","",'CGT Calculator'!E1001) | F1001: =IF('CGT Calculator'!F1001="","",'CGT Calculator'!F1001) | G1001: =IF('CGT Calculator'!G1001="","",'CGT Calculator'!G1001)

Sheet CGT Calculator
A1: B/S | B1: Date | C1: Company | D1: Shares | E1: Price | F1: Charges | G1: Tax | I1: IB TradeDate | J1: IB Symbol | K1: IB Quantity | L1: IB TradePrice | M1: IB Commission | N1: IB Taxes | O1: IB CurrencyPrimary | P1: IB Commission Currency | R1: HMRC Rate (Price) | S1: HMRC Rate (Commission)
A2: =IF(K2="","",IF(K2<0,"S","B")) -> B | B2: =IFERROR(TEXT(DATE(LEFT(I2,4),MID(I2,5,2),RIGHT(I2,2)),"DD/MM/YYYY"),"") -> 07/02/2024 | C2: =IF(J2="","",J2) -> ERNS | D2: =IF(K2="","",ABS(K2)) -> 26 | E2: =IF(L2="","",L2/R2) -> 101.42 | F2: =IFERROR(ABS(M2/S2),"") -> 3 | G2: =IF(N2="","",ABS(N2/R2)) -> 0 | I2: {=IF(INDEX('IB (Input)'!$A:$T,ROW(),IB_TradeDate_Column)="","",INDEX('IB (Input)'!$A:$T,ROW(),IB_TradeDate_Column))} -> 20240207 | J2: {=IF(INDEX('IB (Input)'!$A:$T,ROW(),IB_Symbol_Column)="","",INDEX('IB (Input)'!$A:$T,ROW(),IB_Symbol_Column))} -> ERNS | K2: {=IF(INDEX('IB (Input)'!$A:$T,ROW(),IB_Quantity_Column)="","",INDEX('IB (Input)'!$A:$T,ROW(),IB_Quantity_Column))} -> 26 | L2: {=IF(INDEX('IB (Input)'!$A:$T,ROW(),IB_TradePrice_Column)="","",INDEX('IB (Input)'!$A:$T,ROW(),IB_TradePrice_Column))} -> 101.42 | M2: {=IF(INDEX('IB (Input)'!$A:$T,ROW(),IB_Commission_Column)="","",INDEX('IB (Input)'!$A:$T,ROW(),IB_Commission_Column))} -> -3 | N2: {=IF(INDEX('IB (Input)'!$A:$T,ROW(),IB_Taxes_Column)="","",INDEX('IB (Input)'!$A:$T,ROW(),IB_Taxes_Column))} -> 0 | O2: {=IF(INDEX('IB (Input)'!$A:$T,ROW(),IB_Currency_Column)="","",INDEX('IB (Input)'!$A:$T,ROW(),IB_Currency_Column))} -> GBP | P2: {=IF(INDEX('IB (Input)'!$A:$T,ROW(),IB_IB_Commission_Currency)="","",INDEX('IB (Input)'!$A:$T,ROW(),IB_IB_Commission_Currency))} -> GBP | R2: {=IFERROR(IF(O2="GBP",1,INDEX('HMRC FX Rate'!F:F,MATCH(LEFT(I2,6)&O2,'HMRC FX Rate'!A:A,0))),"")} -> 1 | S2: {=IFERROR(IF(P2="GBP",1,INDEX('HMRC FX Rate'!F:F,MATCH(LEFT(I2,6)&P2,'HMRC FX Rate'!A:A,0))),"")} -> 1
A3: =IF(K3="","",IF(K3<0,"S","B")) -> B | B3: =IFERROR(TEXT(DATE(LEFT(I3,4),MID(I3,5,2),RIGHT(I3,2)),"DD/MM/YYYY"),"") -> 25/03/2024 | C3: =IF(J3="","",J3) -> ERNS | D3: =IF(K3="","",ABS(K3)) -> 14 | E3: =IF(L3="","",L3/R3) -> 102.08 | F3: =IFERROR(ABS(M3/S3),"") -> 3 | G3: =IF(N3="","",ABS(N3/R3)) -> 0 | I3: {=IF(INDEX('IB (Input)'!$A:$T,ROW(),IB_TradeDate_Column)="","",INDEX('IB (Input)'!$A:$T,ROW(),IB_TradeDate_Column))} -> 20240325 | J3: {=IF(INDEX('IB (Input)'!$A:$T,ROW(),IB_Symbol_Column)="","",INDEX('IB (Input)'!$A:$T,ROW(),IB_Symbol_Column))} -> ERNS | K3: {=IF(INDEX('IB (Input)'!$A:$T,ROW(),IB_Quantity_Column)="","",INDEX('IB (Input)'!$A:$T,ROW(),IB_Quantity_Column))} -> 14 | L3: {=IF(INDEX('IB (Input)'!$A:$T,ROW(),IB_TradePrice_Column)="","",INDEX('IB (Input)'!$A:$T,ROW(),IB_TradePrice_Column))} -> 102.08 | M3: {=IF(INDEX('IB (Input)'!$A:$T,ROW(),IB_Commission_Column)="","",INDEX('IB (Input)'!$A:$T,ROW(),IB_Commission_Column))} -> -3 | N3: {=IF(INDEX('IB (Input)'!$A:$T,ROW(),IB_Taxes_Column)="","",INDEX('IB (Input)'!$A:$T,ROW(),IB_Taxes_Column))} -> 0 | O3: {=IF(INDEX('IB (Input)'!$A:$T,ROW(),IB_Currency_Column)="","",INDEX('IB (Input)'!$A:$T,ROW(),IB_Currency_Column))} -> GBP | P3: {=IF(INDEX('IB (Input)'!$A:$T,ROW(),IB_IB_Commission_Currency)="","",INDEX('IB (Input)'!$A:$T,ROW(),IB_IB_Commission_Currency))} -> GBP | R3: {=IFERROR(IF(O3="GBP",1,INDEX('HMRC FX Rate'!F:F,MATCH(LEFT(I3,6)&O3,'HMRC FX Rate'!A:A,0))),"")} -> 1 | S3: {=IFERROR(IF(P3="GBP",1,INDEX('HMRC FX Rate'!F:F,MATCH(LEFT(I3,6)&P3,'HMRC FX Rate'!A:A,0))),"")} -> 1
A4: =IF(K4="","",IF(K4<0,"S","B")) -> B | B4: =IFERROR(TEXT(DATE(LEFT(I4,4),MID(I4,5,2),RIGHT(I4,2)),"DD/MM/YYYY"),"") -> 07/02/2024 | C4: =IF(J4="","",J4) -> FUSI | D4: =IF(K4="","",ABS(K4)) -> 352 | E4: =IF(L4="","",L4/R4) -> 7.5675 | F4: =IFERROR(ABS(M4/S4),"") -> 3 | G4: =IF(N4="","",ABS(N4/R4)) -> 0 | I4: {=IF(INDEX('IB (Input)'!$A:$T,ROW(),IB_TradeDate_Column)="","",INDEX('IB (Input)'!$A:$T,ROW(),IB_TradeDate_Column))} -> 20240207 | J4: {=IF(INDEX('IB (Input)'!$A:$T,ROW(),IB_Symbol_Column)="","",INDEX('IB (Input)'!$A:$T,ROW(),IB_Symbol_Column))} -> FUSI | K4: {=IF(INDEX('IB (Input)'!$A:$T,ROW(),IB_Quantity_Column)="","",INDEX('IB (Input)'!$A:$T,ROW(),IB_Quantity_Column))} -> 352 | L4: {=IF(INDEX('IB (Input)'!$A:$T,ROW(),IB_TradePrice_Column)="","",INDEX('IB (Input)'!$A:$T,ROW(),IB_TradePrice_Column))} -> 7.5675 | M4: {=IF(INDEX('IB (Input)'!$A:$T,ROW(),IB_Commission_Column)="","",INDEX('IB (Input)'!$A:$T,ROW(),IB_Commission_Column))} -> -3 | N4: {=IF(INDEX('IB (Input)'!$A:$T,ROW(),IB_Taxes_Column)="","",INDEX('IB (Input)'!$A:$T,ROW(),IB_Taxes_Column))} -> 0 | O4: {=IF(INDEX('IB (Input)'!$A:$T,ROW(),IB_Currency_Column)="","",INDEX('IB (Input)'!$A:$T,ROW(),IB_Currency_Column))} -> GBP | P4: {=IF(INDEX('IB (Input)'!$A:$T,ROW(),IB_IB_Commission_Currency)="","",INDEX('IB (Input)'!$A:$T,ROW(),IB_IB_Commission_Currency))} -> GBP | R4: {=IFERROR(IF(O4="GBP",1,INDEX('HMRC FX Rate'!F:F,MATCH(LEFT(I4,6)&O4,'HMRC FX Rate'!A:A,0))),"")} -> 1 | S4: {=IFERROR(IF(P4="GBP",1,INDEX('HMRC FX Rate'!F:F,MATCH(LEFT(I4,6)&P4,'HMRC FX Rate'!A:A,0))),"")} -> 1
A5: =IF(K5="","",IF(K5<0,"S","B")) -> B | B5: =IFERROR(TEXT(DATE(LEFT(I5,4),MID(I5,5,2),RIGHT(I5,2)),"DD/MM/YYYY"),"") -> 25/03/2024 | C5: =IF(J5="","",J5) -> FUSI | D5: =IF(K5="","",ABS(K5)) -> 170 | E5: =IF(L5="","",L5/R5) -> 7.905 | F5: =IFERROR(ABS(M5/S5),"") -> 3 | G5: =IF(N5="","",ABS(N5/R5)) -> 0 | I5: {=IF(INDEX('IB (Input)'!$A:$T,ROW(),IB_TradeDate_Column)="","",INDEX('IB (Input)'!$A:$T,ROW(),IB_TradeDate_Column))} -> 20240325 | J5: {=IF(INDEX('IB (Input)'!$A:$T,ROW(),IB_Symbol_Column)="","",INDEX('IB (Input)'!$A:$T,ROW(),IB_Symbol_Column))} -> FUSI | K5: {=IF(INDEX('IB (Input)'!$A:$T,ROW(),IB_Quantity_Column)="","",INDEX('IB (Input)'!$A:$T,ROW(),IB_Quantity_Column))} -> 170 | L5: {=IF(INDEX('IB (Input)'!$A:$T,ROW(),IB_TradePrice_Column)="","",INDEX('IB (Input)'!$A:$T,ROW(),IB_TradePrice_Column))} -> 7.905 | M5: {=IF(INDEX('IB (Input)'!$A:$T,ROW(),IB_Commission_Column)="","",INDEX('IB (Input)'!$A:$T,ROW(),IB_Commission_Column))} -> -3 | N5: {=IF(INDEX('IB (Input)'!$A:$T,ROW(),IB_Taxes_Column)="","",INDEX('IB (Input)'!$A:$T,ROW(),IB_Taxes_Column))} -> 0 | O5: {=IF(INDEX('IB (Input)'!$A:$T,ROW(),IB_Currency_Column)="","",INDEX('IB (Input)'!$A:$T,ROW(),IB_Currency_Column))} -> GBP | P5: {=IF(INDEX('IB (Input)'!$A:$T,ROW(),IB_IB_Commission_Currency)="","",INDEX('IB (Input)'!$A:$T,ROW(),IB_IB_Commission_Currency))} -> GBP | R5: {=IFERROR(IF(O5="GBP",1,INDEX('HMRC FX Rate'!F:F,MATCH(LEFT(I5,6)&O5,'HMRC FX Rate'!A:A,0))),"")} -> 1 | S5: {=IFERROR(IF(P5="GBP",1,INDEX('HMRC FX Rate'!F:F,MATCH(LEFT(I5,6)&P5,'HMRC FX Rate'!A:A,0))),"")} -> 1
A6: =IF(K6="","",IF(K6<0,"S","B")) -> B | B6: =IFERROR(TEXT(DATE(LEFT(I6,4),MID(I6,5,2),RIGHT(I6,2)),"DD/MM/YYYY"),"") -> 10/10/2023 | C6: =IF(J6="","",J6) -> QUID | D6: =IF(K6="","",ABS(K6)) -> 540 | E6: =IF(L6="","",L6/R6) -> 101.95 | F6: =IFERROR(ABS(M6/S6),"") -> 27.5265 | G6: =IF(N6="","",ABS(N6/R6)) -> 0 | I6: {=IF(INDEX('IB (Input)'!$A:$T,ROW(),IB_TradeDate_Column)="","",INDEX('IB (Input)'!$A:$T,ROW(),IB_TradeDate_Column))} -> 20231010 | J6: {=IF(INDEX('IB (Input)'!$A:$T,ROW(),IB_Symbol_Column)="","",INDEX('IB (Input)'!$A:$T,ROW(),IB_Symbol_Column))} -> QUID | K6: {=IF(INDEX('IB (Input)'!$A:$T,ROW(),IB_Quantity_Column)="","",INDEX('IB (Input)'!$A:$T,ROW(),IB_Quantity_Column))} -> 540 | L6: {=IF(INDEX('IB (Input)'!$A:$T,ROW(),IB_TradePrice_Column)="","",INDEX('IB (Input)'!$A:$T,ROW(),IB_TradePrice_Column))} -> 101.95 | M6: {=IF(INDEX('IB (Input)'!$A:$T,ROW(),IB_Commission_Column)="","",INDEX('IB (Input)'!$A:$T,ROW(),IB_Commission_Column))} -> -27.5265 | N6: {=IF(INDEX('IB (Input)'!$A:$T,ROW(),IB_Taxes_Column)="","",INDEX('IB (Input)'!$A:$T,ROW(),IB_Taxes_Column))} -> 0 | O6: {=IF(INDEX('IB (Input)'!$A:$T,ROW(),IB_Currency_Column)="","",INDEX('IB (Input)'!$A:$T,ROW(),IB_Currency_Column))} -> GBP | P6: {=IF(INDEX('IB (Input)'!$A:$T,ROW(),IB_IB_Commission_Currency)="","",INDEX('IB (Input)'!$A:$T,ROW(),IB_IB_Commission_Currency))} -> GBP | R6: {=IFERROR(IF(O6="GBP",1,INDEX('HMRC FX Rate'!F:F,MATCH(LEFT(I6,6)&O6,'HMRC FX Rate'!A:A,0))),"")} -> 1 | S6: {=IFERROR(IF(P6="GBP",1,INDEX('HMRC FX Rate'!F:F,MATCH(LEFT(I6,6)&P6,'HMRC FX Rate'!A:A,0))),"")} -> 1
A7: =IF(K7="","",IF(K7<0,"S","B")) -> S | B7: =IFERROR(TEXT(DATE(LEFT(I7,4),MID(I7,5,2),RIGHT(I7,2)),"DD/MM/YYYY"),"") -> 30/10/2023 | C7: =IF(J7="","",J7) -> QUID | D7: =IF(K7="","",ABS(K7)) -> 328 | E7: =IF(L7="","",L7/R7) -> 101.9 | F7: =IFERROR(ABS(M7/S7),"") -> 16.7116 | G7: =IF(N7="","",ABS(N7/R7)) -> 0 | I7: {=IF(INDEX('IB (Input)'!$A:$T,ROW(),IB_TradeDate_Column)="","",INDEX('IB (Input)'!$A:$T,ROW(),IB_TradeDate_Column))} -> 20231030 | J7: {=IF(INDEX('IB (Input)'!$A:$T,ROW(),IB_Symbol_Column)="","",INDEX('IB (Input)'!$A:$T,ROW(),IB_Symbol_Column))} -> QUID | K7: {=IF(INDEX('IB (Input)'!$A:$T,ROW(),IB_Quantity_Column)="","",INDEX('IB (Input)'!$A:$T,ROW(),IB_Quantity_Column))} -> -328 | L7: {=IF(INDEX('IB (Input)'!$A:$T,ROW(),IB_TradePrice_Column)="","",INDEX('IB (Input)'!$A:$T,ROW(),IB_TradePrice_Column))} -> 101.9 | M7: {=IF(INDEX('IB (Input)'!$A:$T,ROW(),IB_Commission_Column)="","",INDEX('IB (Input)'!$A:$T,ROW(),IB_Commission_Column))} -> -16.7116 | N7: {=IF(INDEX('IB (Input)'!$A:$T,ROW(),IB_Taxes_Column)="","",INDEX('IB (Input)'!$A:$T,ROW(),IB_Taxes_Column))} -> 0 | O7: {=IF(INDEX('IB (Input)'!$A:$T,ROW(),IB_Currency_Column)="","",INDEX('IB (Input)'!$A:$T,ROW(),IB_Currency_Column))} -> GBP | P7: {=IF(INDEX('IB (Input)'!$A:$T,ROW(),IB_IB_Commission_Currency)="","",INDEX('IB (Input)'!$A:$T,ROW(),IB_IB_Commission_Currency))} -> GBP | R7: {=IFERROR(IF(O7="GBP",1,INDEX('HMRC FX Rate'!F:F,MATCH(LEFT(I7,6)&O7,'HMRC FX Rate'!A:A,0))),"")} -> 1 | S7: {=IFERROR(IF(P7="GBP",1,INDEX('HMRC FX Rate'!F:F,MATCH(LEFT(I7,6)&P7,'HMRC FX Rate'!A:A,0))),"")} -> 1
A8: =IF(K8="","",IF(K8<0,"S","B")) -> S | B8: =IFERROR(TEXT(DATE(LEFT(I8,4),MID(I8,5,2),RIGHT(I8,2)),"DD/MM/YYYY"),"") -> 31/10/2023 | C8: =IF(J8="","",J8) -> QUID | D8: =IF(K8="","",ABS(K8)) -> 14 | E8: =IF(L8="","",L8/R8) -> 101.9 | F8: =IFERROR(ABS(M8/S8),"") -> 3 | G8: =IF(N8="","",ABS(N8/R8)) -> 0 | I8: {=IF(INDEX('IB (Input)'!$A:$T,ROW(),IB_TradeDate_Column)="","",INDEX('IB (Input)'!$A:$T,ROW(),IB_TradeDate_Column))} -> 20231031 | J8: {=IF(INDEX('IB (Input)'!$A:$T,ROW(),IB_Symbol_Column)="","",INDEX('IB (Input)'!$A:$T,ROW(),IB_Symbol_Column))} -> QUID | K8: {=IF(INDEX('IB (Input)'!$A:$T,ROW(),IB_Quantity_Column)="","",INDEX('IB (Input)'!$A:$T,ROW(),IB_Quantity_Column))} -> -14 | L8: {=IF(INDEX('IB (Input)'!$A:$T,ROW(),IB_TradePrice_Column)="","",INDEX('IB (Input)'!$A:$T,ROW(),IB_TradePrice_Column))} -> 101.9 | M8: {=IF(INDEX('IB (Input)'!$A:$T,ROW(),IB_Commission_Column)="","",INDEX('IB (Input)'!$A:$T,ROW(),IB_Commission_Column))} -> -3 | N8: {=IF(INDEX('IB (Input)'!$A:$T,ROW(),IB_Taxes_Column)="","",INDEX('IB (Input)'!$A:$T,ROW(),IB_Taxes_Column))} -> 0 | O8: {=IF(INDEX('IB (Input)'!$A:$T,ROW(),IB_Currency_Column)="","",INDEX('IB (Input)'!$A:$T,ROW(),IB_Currency_Column))} -> GBP | P8: {=IF(INDEX('IB (Input)'!$A:$T,ROW(),IB_IB_Commission_Currency)="","",INDEX('IB (Input)'!$A:$T,ROW(),IB_IB_Commission_Currency))} -> GBP | R8: {=IFERROR(IF(O8="GBP",1,INDEX('HMRC FX Rate'!F:F,MATCH(LEFT(I8,6)&O8,'HMRC FX Rate'!A:A,0))),"")} -> 1 | S8: {=IFERROR(IF(P8="GBP",1,INDEX('HMRC FX Rate'!F:F,MATCH(LEFT(I8,6)&P8,'HMRC FX Rate'!A:A,0))),"")} -> 1
A9: =IF(K9="","",IF(K9<0,"S","B")) -> S | B9: =IFERROR(TEXT(DATE(LEFT(I9,4),MID(I9,5,2),RIGHT(I9,2)),"DD/MM/YYYY"),"") -> 31/10/2023 | C9: =IF(J9="","",J9) -> QUID | D9: =IF(K9="","",ABS(K9)) -> 1 | E9: =IF(L9="","",L9/R9) -> 101.9 | F9: =IFERROR(ABS(M9/S9),"") -> 0 | G9: =IF(N9="","",ABS(N9/R9)) -> 0 | I9: {=IF(INDEX('IB (Input)'!$A:$T,ROW(),IB_TradeDate_Column)="","",INDEX('IB (Input)'!$A:$T,ROW(),IB_TradeDate_Column))} -> 20231031 | J9: {=IF(INDEX('IB (Input)'!$A:$T,ROW(),IB_Symbol_Column)="","",INDEX('IB (Input)'!$A:$T,ROW(),IB_Symbol_Column))} -> QUID | K9: {=IF(INDEX('IB (Input)'!$A:$T,ROW(),IB_Quantity_Column)="","",INDEX('IB (Input)'!$A:$T,ROW(),IB_Quantity_Column))} -> -1 | L9: {=IF(INDEX('IB (Input)'!$A:$T,ROW(),IB_TradePrice_Column)="","",INDEX('IB (Input)'!$A:$T,ROW(),IB_TradePrice_Column))} -> 101.9 | M9: {=IF(INDEX('IB (Input)'!$A:$T,ROW(),IB_Commission_Column)="","",INDEX('IB (Input)'!$A:$T,ROW(),IB_Commission_Column))} -> 0 | N9: {=IF(INDEX('IB (Input)'!$A:$T,ROW(),IB_Taxes_Column)="","",INDEX('IB (Input)'!$A:$T,ROW(),IB_Taxes_Column))} -> 0 | O9: {=IF(INDEX('IB (Input)'!$A:$T,ROW(),IB_Currency_Column)="","",INDEX('IB (Input)'!$A:$T,ROW(),IB_Currency_Column))} -> GBP | P9: {=IF(INDEX('IB (Input)'!$A:$T,ROW(),IB_IB_Commission_Currency)="","",INDEX('IB (Input)'!$A:$T,ROW(),IB_IB_Commission_Currency))} -> GBP | R9: {=IFERROR(IF(O9="GBP",1,INDEX('HMRC FX Rate'!F:F,MATCH(LEFT(I9,6)&O9,'HMRC FX Rate'!A:A,0))),"")} -> 1 | S9: {=IFERROR(IF(P9="GBP",1,INDEX('HMRC FX Rate'!F:F,MATCH(LEFT(I9,6)&P9,'HMRC FX Rate'!A:A,0))),"")} -> 1
A10: =IF(K10="","",IF(K10<0,"S","B")) -> S | B10: =IFERROR(TEXT(DATE(LEFT(I10,4),MID(I10,5,2),RIGHT(I10,2)),"DD/MM/YYYY"),"") -> 31/10/2023 | C10: =IF(J10="","",J10) -> QUID | D10: =IF(K10="","",ABS(K10)) -> 5 | E10: =IF(L10="","",L10/R10) -> 101.9 | F10: =IFERROR(ABS(M10/S10),"") -> 0 | G10: =IF(N10="","",ABS(N10/R10)) -> 0 | I10: {=IF(INDEX('IB (Input)'!$A:$T,ROW(),IB_TradeDate_Column)="","",INDEX('IB (Input)'!$A:$T,ROW(),IB_TradeDate_Column))} -> 20231031 | J10: {=IF(INDEX('IB (Input)'!$A:$T,ROW(),IB_Symbol_Column)="","",INDEX('IB (Input)'!$A:$T,ROW(),IB_Symbol_Column))} -> QUID | K10: {=IF(INDEX('IB (Input)'!$A:$T,ROW(),IB_Quantity_Column)="","",INDEX('IB (Input)'!$A:$T,ROW(),IB_Quantity_Column))} -> -5 | L10: {=IF(INDEX('IB (Input)'!$A:$T,ROW(),IB_TradePrice_Column)="","",INDEX('IB (Input)'!$A:$T,ROW(),IB_TradePrice_Column))} -> 101.9 | M10: {=IF(INDEX('IB (Input)'!$A:$T,ROW(),IB_Commission_Column)="","",INDEX('IB (Input)'!$A:$T,ROW(),IB_Commission_Column))} -> 0 | N10: {=IF(INDEX('IB (Input)'!$A:$T,ROW(),IB_Taxes_Column)="","",INDEX('IB (Input)'!$A:$T,ROW(),IB_Taxes_Column))} -> 0 | O10: {=IF(INDEX('IB (Input)'!$A:$T,ROW(),IB_Currency_Column)="","",INDEX('IB (Input)'!$A:$T,ROW(),IB_Currency_Column))} -> GBP | P10: {=IF(INDEX('IB (Input)'!$A:$T,ROW(),IB_IB_Commission_Currency)="","",INDEX('IB (Input)'!$A:$T,ROW(),IB_IB_Commission_Currency))} -> GBP | R10: {=IFERROR(IF(O10="GBP",1,INDEX('HMRC FX Rate'!F:F,MATCH(LEFT(I10,6)&O10,'HMRC FX Rate'!A:A,0))),"")} -> 1 | S10: {=IFERROR(IF(P10="GBP",1,INDEX('HMRC FX Rate'!F:F,MATCH(LEFT(I10,6)&P10,'HMRC FX Rate'!A:A,0))),"")} -> 1
A11: =IF(K11="","",IF(K11<0,"S","B")) -> S | B11: =IFERROR(TEXT(DATE(LEFT(I11,4),MID(I11,5,2),RIGHT(I11,2)),"DD/MM/YYYY"),"") -> 31/10/2023 | C11: =IF(J11="","",J11) -> QUID | D11: =IF(K11="","",ABS(K11)) -> 192 | E11: =IF(L11="","",L11/R11) -> 101.9 | F11: =IFERROR(ABS(M11/S11),"") -> 7.8014 | G11: =IF(N11="","",ABS(N11/R11)) -> 0 | I11: {=IF(INDEX('IB (Input)'!$A:$T,ROW(),IB_TradeDate_Column)="","",INDEX('IB (Input)'!$A:$T,ROW(),IB_TradeDate_Column))} -> 20231031 | J11: {=IF(INDEX('IB (Input)'!$A:$T,ROW(),IB_Symbol_Column)="","",INDEX('IB (Input)'!$A:$T,ROW(),IB_Symbol_Column))} -> QUID | K11: {=IF(INDEX('IB (Input)'!$A:$T,ROW(),IB_Quantity_Column)="","",INDEX('IB (Input)'!$A:$T,ROW(),IB_Quantity_Column))} -> -192 | L11: {=IF(INDEX('IB (Input)'!$A:$T,ROW(),IB_TradePrice_Column)="","",INDEX('IB (Input)'!$A:$T,ROW(),IB_TradePrice_Column))} -> 101.9 | M11: {=IF(INDEX('IB (Input)'!$A:$T,ROW(),IB_Commission_Column)="","",INDEX('IB (Input)'!$A:$T,ROW(),IB_Commission_Column))} -> -7.8014 | N11: {=IF(INDEX('IB (Input)'!$A:$T,ROW(),IB_Taxes_Column)="","",INDEX('IB (Input)'!$A:$T,ROW(),IB_Taxes_Column))} -> 0 | O11: {=IF(INDEX('IB (Input)'!$A:$T,ROW(),IB_Currency_Column)="","",INDEX('IB (Input)'!$A:$T,ROW(),IB_Currency_Column))} -> GBP | P11: {=IF(INDEX('IB (Input)'!$A:$T,ROW(),IB_IB_Commission_Currency)="","",INDEX('IB (Input)'!$A:$T,ROW(),IB_IB_Commission_Currency))} -> GBP | R11: {=IFERROR(IF(O11="GBP",1,INDEX('HMRC FX Rate'!F:F,MATCH(LEFT(I11,6)&O11,'HMRC FX Rate'!A:A,0))),"")} -> 1 | S11: {=IFERROR(IF(P11="GBP",1,INDEX('HMRC FX Rate'!F:F,MATCH(LEFT(I11,6)&P11,'HMRC FX Rate'!A:A,0))),"")} -> 1
A12: =IF(K12="","",IF(K12<0,"S","B")) -> B | B12: =IFERROR(TEXT(DATE(LEFT(I12,4),MID(I12,5,2),RIGHT(I12,2)),"DD/MM/YYYY"),"") -> 07/02/2024 | C12: =IF(J12="","",J12) -> QUID | D12: =IF(K12="","",ABS(K12)) -> 26 | E12: =IF(L12="","",L12/R12) -> 102.48 | F12: =IFERROR(ABS(M12/S12),"") -> 3 | G12: =IF(N12="","",ABS(N12/R12)) -> 0 | I12: {=IF(INDEX('IB (Input)'!$A:$T,ROW(),IB_TradeDate_Column)="","",INDEX('IB (Input)'!$A:$T,ROW(),IB_TradeDate_Column))} -> 20240207 | J12: {=IF(INDEX('IB (Input)'!$A:$T,ROW(),IB_Symbol_Column)="","",INDEX('IB (Input)'!$A:$T,ROW(),IB_Symbol_Column))} -> QUID | K12: {=IF(INDEX('IB (Input)'!$A:$T,ROW(),IB_Quantity_Column)="","",INDEX('IB (Input)'!$A:$T,ROW(),IB_Quantity_Column))} -> 26 | L12: {=IF(INDEX('IB (Input)'!$A:$T,ROW(),IB_TradePrice_Column)="","",INDEX('IB (Input)'!$A:$T,ROW(),IB_TradePrice_Column))} -> 102.48 | M12: {=IF(INDEX('IB (Input)'!$A:$T,ROW(),IB_Commission_Column)="","",INDEX('IB (Input)'!$A:$T,ROW(),IB_Commission_Column))} -> -3 | N12: {=IF(INDEX('IB (Input)'!$A:$T,ROW(),IB_Taxes_Column)="","",INDEX('IB (Input)'!$A:$T,ROW(),IB_Taxes_Column))} -> 0 | O12: {=IF(INDEX('IB (Input)'!$A:$T,ROW(),IB_Currency_Column)="","",INDEX('IB (Input)'!$A:$T,ROW(),IB_Currency_Column))} -> GBP | P12: {=IF(INDEX('IB (Input)'!$A:$T,ROW(),IB_IB_Commission_Currency)="","",INDEX('IB (Input)'!$A:$T,ROW(),IB_IB_Commission_Currency))} -> GBP | R12: {=IFERROR(IF(O12="GBP",1,INDEX('HMRC FX Rate'!F:F,MATCH(LEFT(I12,6)&O12,'HMRC FX Rate'!A:A,0))),"")} -> 1 | S12: {=IFERROR(IF(P12="GBP",1,INDEX('HMRC FX Rate'!F:F,MATCH(LEFT(I12,6)&P12,'HMRC FX Rate'!A:A,0))),"")} -> 1
A13: =IF(K13="","",IF(K13<0,"S","B")) -> B | B13: =IFERROR(TEXT(DATE(LEFT(I13,4),MID(I13,5,2),RIGHT(I13,2)),"DD/MM/YYYY"),"") -> 25/03/2024 | C13: =IF(J13="","",J13) -> QUID | D13: =IF(K13="","",ABS(K13)) -> 4 | E13: =IF(L13="","",L13/R13) -> 102.43 | F13: =IFERROR(ABS(M13/S13),"") -> 3 | G13: =IF(N13="","",ABS(N13/R13)) -> 0 | I13: {=IF(INDEX('IB (Input)'!$A:$T,ROW(),IB_TradeDate_Column)="","",INDEX('IB (Input)'!$A:$T,ROW(),IB_TradeDate_Column))} -> 20240325 | J13: {=IF(INDEX('IB (Input)'!$A:$T,ROW(),IB_Symbol_Column)="","",INDEX('IB (Input)'!$A:$T,ROW(),IB_Symbol_Column))} -> QUID | K13: {=IF(INDEX('IB (Input)'!$A:$T,ROW(),IB_Quantity_Column)="","",INDEX('IB (Input)'!$A:$T,ROW(),IB_Quantity_Column))} -> 4 | L13: {=IF(INDEX('IB (Input)'!$A:$T,ROW(),IB_TradePrice_Column)="","",INDEX('IB (Input)'!$A:$T,ROW(),IB_TradePrice_Column))} -> 102.43 | M13: {=IF(INDEX('IB (Input)'!$A:$T,ROW(),IB_Commission_Column)="","",INDEX('IB (Input)'!$A:$T,ROW(),IB_Commission_Column))} -> -3 | N13: {=IF(INDEX('IB (Input)'!$A:$T,ROW(),IB_Taxes_Column)="","",INDEX('IB (Input)'!$A:$T,ROW(),IB_Taxes_Column))} -> 0 | O13: {=IF(INDEX('IB (Input)'!$A:$T,ROW(),IB_Currency_Column)="","",INDEX('IB (Input)'!$A:$T,ROW(),IB_Currency_Column))} -> GBP | P13: {=IF(INDEX('IB (Input)'!$A:$T,ROW(),IB_IB_Commission_Currency)="","",INDEX('IB (Input)'!$A:$T,ROW(),IB_IB_Commission_Currency))} -> GBP | R13: {=IFERROR(IF(O13="GBP",1,INDEX('HMRC FX Rate'!F:F,MATCH(LEFT(I13,6)&O13,'HMRC FX Rate'!A:A,0))),"")} -> 1 | S13: {=IFERROR(IF(P13="GBP",1,INDEX('HMRC FX Rate'!F:F,MATCH(LEFT(I13,6)&P13,'HMRC FX Rate'!A:A,0))),"")} -> 1
... A1001: =IF(K1001="","",IF(K1001<0,"S","B")) | B1001: =IFERROR(TEXT(DATE(LEFT(I1001,4),MID(I1001,5,2),RIGHT(I1001,2)),"DD/MM/YYYY"),"") | C1001: =IF(J1001="","",J1001) | D1001: =IF(K1001="","",ABS(K1001)) | E1001: =IF(L1001="","",L1001/R1001) | F1001: =IFERROR(ABS(M1001/S1001),"") | G1001: =IF(N1001="","",ABS(N1001/R1001)) | I1001: {=IF(INDEX('IB (Input)'!$A:$T,ROW(),IB_TradeDate_Column)="","",INDEX('IB (Input)'!$A:$T,ROW(),IB_TradeDate_Column))} | J1001: {=IF(INDEX('IB (Input)'!$A:$T,ROW(),IB_Symbol_Column)="","",INDEX('IB (Input)'!$A:$T,ROW(),IB_Symbol_Column))} | K1001: {=IF(INDEX('IB (Input)'!$A:$T,ROW(),IB_Quantity_Column)="","",INDEX('IB (Input)'!$A:$T,ROW(),IB_Quantity_Column))} | L1001: {=IF(INDEX('IB (Input)'!$A:$T,ROW(),IB_TradePrice_Column)="","",INDEX('IB (Input)'!$A:$T,ROW(),IB_TradePrice_Column))} | M1001: {=IF(INDEX('IB (Input)'!$A:$T,ROW(),IB_Commission_Column)="","",INDEX('IB (Input)'!$A:$T,ROW(),IB_Commission_Column))} | N1001: {=IF(INDEX('IB (Input)'!$A:$T,ROW(),IB_Taxes_Column)="","",INDEX('IB (Input)'!$A:$T,ROW(),IB_Taxes_Column))} | O1001: {=IF(INDEX('IB (Input)'!$A:$T,ROW(),IB_Currency_Column)="","",INDEX('IB (Input)'!$A:$T,ROW(),IB_Currency_Column))} | P1001: {=IF(INDEX('IB (Input)'!$A:$T,ROW(),IB_IB_Commission_Currency)="","",INDEX('IB (Input)'!$A:$T,ROW(),IB_IB_Commission_Currency))} | R1001: {=IFERROR(IF(O1001="GBP",1,INDEX('HMRC FX Rate'!F:F,MATCH(LEFT(I1001,6)&O1001,'HMRC FX Rate'!A:A,0))),"")} | S1001: {=IFERROR(IF(P1001="GBP",1,INDEX('HMRC FX Rate'!F:F,MATCH(LEFT(I1001,6)&P1001,'HMRC FX Rate'!A:A,0))),"")}

Sheet HMRC FX Rate
A1: MatchCode | B1: Month | C1: Country/Territories | D1: Currency | E1: Currency Code | F1: Currency units per ｣1 | G1: Start Date | H1: End Date
A2: =B2&E2 -> 202104AED | B2: =YEAR(G2)&TEXT(MONTH(G2),"00") -> 202104 | C2: Abu Dhabi | D2: Dirham | E2: AED | F2: 5.0399 | G2: 44287 | H2: 44316
A3: =B3&E3 -> 202104ALL | B3: =YEAR(G3)&TEXT(MONTH(G3),"00") -> 202104 | C3: Albania | D3: Lek | E3: ALL | F3: 142.86 | G3: 44287 | H3: 44316
A4: =B4&E4 -> 202104DZD | B4: =YEAR(G4)&TEXT(MONTH(G4),"00") -> 202104 | C4: Algeria | D4: Dinar | E4: DZD | F4: 183.68 | G4: 44287 | H4: 44316
A5: =B5&E5 -> 202104AOA | B5: =YEAR(G5)&TEXT(MONTH(G5),"00") -> 202104 | C5: Angola | D5: Readj Kwanza | E5: AOA | F5: 859.16 | G5: 44287 | H5: 44316
A6: =B6&E6 -> 202104XCD | B6: =YEAR(G6)&TEXT(MONTH(G6),"00") -> 202104 | C6: Antigua | D6: E Caribbean Dollar | E6: XCD | F6: 3.7047 | G6: 44287 | H6: 44316
A7: =B7&E7 -> 202104ARS | B7: =YEAR(G7)&TEXT(MONTH(G7),"00") -> 202104 | C7: Argentina | D7: Peso | E7: ARS | F7: 125.48 | G7: 44287 | H7: 44316
A8: =B8&E8 -> 202104AMD | B8: =YEAR(G8)&TEXT(MONTH(G8),"00") -> 202104 | C8: Armenia | D8: Dram | E8: AMD | F8: 724.9 | G8: 44287 | H8: 44316
A9: =B9&E9 -> 202104AWG | B9: =YEAR(G9)&TEXT(MONTH(G9),"00") -> 202104 | C9: Aruba | D9: Florin | E9: AWG | F9: 2.4561 | G9: 44287 | H9: 44316
A10: =B10&E10 -> 202104AUD | B10: =YEAR(G10)&TEXT(MONTH(G10),"00") -> 202104 | C10: Australia | D10: Dollar | E10: AUD | F10: 1.8001 | G10: 44287 | H10: 44316
A11: =B11&E11 -> 202104AZN | B11: =YEAR(G11)&TEXT(MONTH(G11),"00") -> 202104 | C11: Azerbaijan | D11: New Manat | E11: AZN | F11: 2.3312 | G11: 44287 | H11: 44316
A12: =B12&E12 -> 202104BSD | B12: =YEAR(G12)&TEXT(MONTH(G12),"00") -> 202104 | C12: Bahamas | D12: Dollar | E12: BSD | F12: 1.3721 | G12: 44287 | H12: 44316
A13: =B13&E13 -> 202104BHD | B13: =YEAR(G13)&TEXT(MONTH(G13),"00") -> 202104 | C13: Bahrain | D13: Dinar | E13: BHD | F13: 0.5174 | G13: 44287 | H13: 44316
... A8449: =B8449&E8449 -> 202506ZWG | B8449: =YEAR(G8449)&TEXT(MONTH(G8449),"00") -> 202506 | C8449: Zimbabwe | D8449: Zimbabwe Gold | E8449: ZWG | F8449: 36.1049 | G8449: 45809 | H8449: 45838

Sheet Tmp
A1: IB Column Name | B1: Name | C1: Column No.
A2: Symbol | B2: IB Symbol Column | C2: =MATCH(A2,'IB (Input)'!$A$1:$T$1,0) -> 3
A3: Quantity | B3: IB Quantity Column | C3: =MATCH(A3,'IB (Input)'!$A$1:$T$1,0) -> 5
A4: CurrencyPrimary | B4: IB Currency Column | C4: =MATCH(A4,'IB (Input)'!$A$1:$T$1,0) -> 1
A5: TradeDate | B5: IB TradeDate Column | C5: =MATCH(A5,'IB (Input)'!$A$1:$T$1,0) -> 4
A6: TradePrice | B6: IB TradePrice Column | C6: =MATCH(A6,'IB (Input)'!$A$1:$T$1,0) -> 6
A7: Taxes | B7: IB Taxes Column | C7: =MATCH(A7,'IB (Input)'!$A$1:$T$1,0) -> 7
A8: IBCommission | B8: IB Commission Column | C8: =MATCH(A8,'IB (Input)'!$A$1:$T$1,0) -> 8
A9: IBCommissionCurrency | B9: IB IB Commission Currency | C9: =MATCH(A9,'IB (Input)'!$A$1:$T$1,0) -> 9

Sheet Update
A1: Version | B1: Description
A2: 1 | B2: Initial version
A3: 1.1 | B3: Fix error in IB Commission Currency calculation. It should use the IB Commission Currency instead of the IB CurrencyPrimary
A4: 3 | B4: Update exchange rate up to 2025/06
A5: 4 | B5: Extended the rows to support 1000 transactions
